BEGIN:VCALENDAR
VERSION:2.0
PRODID:-//Buckfastleigh Town Council - ECPv6.15.20//NONSGML v1.0//EN
CALSCALE:GREGORIAN
METHOD:PUBLISH
X-ORIGINAL-URL:https://buckfastleigh.gov.uk
X-WR-CALDESC:Events for Buckfastleigh Town Council
REFRESH-INTERVAL;VALUE=DURATION:PT1H
X-Robots-Tag:noindex
X-PUBLISHED-TTL:PT1H
BEGIN:VTIMEZONE
TZID:UTC
BEGIN:STANDARD
TZOFFSETFROM:+0000
TZOFFSETTO:+0000
TZNAME:UTC
DTSTART:20200101T000000
END:STANDARD
END:VTIMEZONE
BEGIN:VEVENT
DTSTART;TZID=UTC:20210106T190000
DTEND;TZID=UTC:20210106T210000
DTSTAMP:20260422T100842
CREATED:20201209T092714Z
LAST-MODIFIED:20210415T135531Z
UID:11946-1609959600-1609966800@buckfastleigh.gov.uk
SUMMARY:Town Council Meeting
DESCRIPTION:Agenda (Published 5 working days before the meeting)\nMinutes  (available after approval at next meeting)\n\nThis meeting will be held online using Zoom.  Login details provided shortly before meeting.  
URL:https://buckfastleigh.gov.uk/event/town-council-meeting-49/
CATEGORIES:Town Council Meeting
ORGANIZER;CN="Buckfastleigh Town Council":MAILTO:clerk@buckfastleigh.gov.uk
END:VEVENT
BEGIN:VEVENT
DTSTART;TZID=UTC:20210120T190000
DTEND;TZID=UTC:20210120T210000
DTSTAMP:20260422T100842
CREATED:20201209T092902Z
LAST-MODIFIED:20210415T135457Z
UID:11948-1611169200-1611176400@buckfastleigh.gov.uk
SUMMARY:Town Council Meeting
DESCRIPTION:Agenda (Publiished 5 working days before the meeting)\nMinutes (available after approval at next meeting)\n\nTown Council meetings are currently being held using the remote meeting service Zoom. If you would like to join the meeting scheduled for 20th January 2021 at 7.00pm please use the following login details required to join the meeting: \n\n\n\nJoin Zoom Meeting\nhttps://us02web.zoom.us/j/86052879467?pwd=Sm9NQTB0T3pGa2IxVG1zb2NraXcwQT09\nMeeting ID: 860 5287 9467\nPasscode: 608244\nPlease note that Members of the Public will be kept in the waiting room facility in Zoom until the meeting commences.\n\n\n\nAny member of the public and press who wishes to attend the Town Council meeting will need to download\nZoom. Please visit https://zoom.us/meetings where you will be able to download the App.\nThe website gives tutorials and demonstrations on how to download Zoom and how to join\nmeetings.
URL:https://buckfastleigh.gov.uk/event/town-council-meeting-50/
CATEGORIES:Town Council Meeting
ORGANIZER;CN="Buckfastleigh Town Council":MAILTO:clerk@buckfastleigh.gov.uk
END:VEVENT
END:VCALENDAR