BEGIN:VCALENDAR
VERSION:2.0
PRODID:-//Buckfastleigh Town Council - ECPv6.15.20//NONSGML v1.0//EN
CALSCALE:GREGORIAN
METHOD:PUBLISH
X-ORIGINAL-URL:https://buckfastleigh.gov.uk
X-WR-CALDESC:Events for Buckfastleigh Town Council
REFRESH-INTERVAL;VALUE=DURATION:PT1H
X-Robots-Tag:noindex
X-PUBLISHED-TTL:PT1H
BEGIN:VTIMEZONE
TZID:UTC
BEGIN:STANDARD
TZOFFSETFROM:+0000
TZOFFSETTO:+0000
TZNAME:UTC
DTSTART:20200101T000000
END:STANDARD
END:VTIMEZONE
BEGIN:VEVENT
DTSTART;TZID=UTC:20210303T190000
DTEND;TZID=UTC:20210303T210000
DTSTAMP:20260422T070727
CREATED:20201209T123722Z
LAST-MODIFIED:20210415T135253Z
UID:11954-1614798000-1614805200@buckfastleigh.gov.uk
SUMMARY:Town Council Meeting
DESCRIPTION:Agenda (Published 5 working days before the meeting)\nMinutes  (available after approval at next meeting)\n\nTown Council meetings are currently being held using the remote meeting service Zoom. If you would like to join the meeting scheduled for 3rd March 2021 at 7.00pm please use the following login details required to join the meeting: \n\n\n\nJoin Zoom Meeting\nhttps://us02web.zoom.us/j/83165454030?pwd=SUcycWZaT3RVQ2tRbHFEYTNkVDZlQT09\nMeeting ID: 831 6545 4030\nPasscode: 550905\nPlease note that Members of the Public will be kept in the waiting room facility in Zoom until the meeting commences.\n\n\n\nAny member of the public and press who wishes to attend the Town Council meeting will need to download\nZoom. Please visit https://zoom.us/meetings where you will be able to download the App.\nThe website gives tutorials and demonstrations on how to download Zoom and how to join\nmeetings.
URL:https://buckfastleigh.gov.uk/event/town-council-meeting-53/
CATEGORIES:Town Council Meeting
END:VEVENT
BEGIN:VEVENT
DTSTART;TZID=UTC:20210316T190000
DTEND;TZID=UTC:20210316T203000
DTSTAMP:20260422T070727
CREATED:20210315T084932Z
LAST-MODIFIED:20210315T084932Z
UID:12165-1615921200-1615926600@buckfastleigh.gov.uk
SUMMARY:Millennium Green Trustees AGM
DESCRIPTION:This meeting will be held online by Zoom \nJoin Zoom Meeting \nhttps://us02web.zoom.us/j/81226925758?pwd=aXF4UXRHYk5WYTREamc2WHd4UDlWQT09 \n  \nMeeting ID: 812 2692 5758 \nPasscode: 094016 \nOne tap mobile \n+13126266799\,\,81226925758#\,\,\,\,*094016# US (Chicago) \n+13462487799\,\,81226925758#\,\,\,\,*094016# US (Houston) \n  \nDial by your location \n        +1 312 626 6799 US (Chicago) \n        +1 346 248 7799 US (Houston) \n        +1 646 558 8656 US (New York) \n        +1 669 900 9128 US (San Jose) \n        +1 253 215 8782 US (Tacoma) \n        +1 301 715 8592 US (Washington DC) Meeting ID: 812 2692 5758 \nPasscode: 094016 \nFind your local number: https://us02web.zoom.us/u/kbx0m95SA3 \n  \n  \n 
URL:https://buckfastleigh.gov.uk/event/millennium-green-trustees-agm/
END:VEVENT
BEGIN:VEVENT
DTSTART;TZID=UTC:20210317T190000
DTEND;TZID=UTC:20210317T210000
DTSTAMP:20260422T070727
CREATED:20201209T123835Z
LAST-MODIFIED:20210415T135211Z
UID:11956-1616007600-1616014800@buckfastleigh.gov.uk
SUMMARY:Town Council Meeting
DESCRIPTION:Agenda  (Published 5 working days before the meeting)\nMinutes  (available after approval at next meeting)\n\nTown Council meetings are currently being held using the remote meeting service Zoom. If you would like to join the meeting scheduled for 17th March 2021 at 7.00pm please use the following login details required to join the meeting: \n\n\nJoin Zoom Meeting\n\nhttps://us02web.zoom.us/j/88448964850?pwd=b0xnZUZDYXpMZDhVMGhlRmVEd2p3QT09 \nMeeting ID: 884 4896 4850 \nPasscode: 381436 \nPlease note that Members of the Public will be kept in the waiting room facility in Zoom until the meeting commences. \n\n\n\nAny member of the public and press who wishes to attend the Town Council meeting will need to download\nZoom. Please visit https://zoom.us/meetings where you will be able to download the App.\nThe website gives tutorials and demonstrations on how to download Zoom and how to join\nmeetings.
URL:https://buckfastleigh.gov.uk/event/town-council-meeting-54/
CATEGORIES:Town Council Meeting
ORGANIZER;CN="Buckfastleigh Town Council":MAILTO:clerk@buckfastleigh.gov.uk
END:VEVENT
BEGIN:VEVENT
DTSTART;TZID=UTC:20210330T193000
DTEND;TZID=UTC:20210330T210000
DTSTAMP:20260422T070727
CREATED:20210315T085509Z
LAST-MODIFIED:20210315T141425Z
UID:12167-1617132600-1617138000@buckfastleigh.gov.uk
SUMMARY:Buckfastleigh Community Development Project (Trust) AGM
DESCRIPTION:This AGM will be held virtually online.  Members of the public are invited to attend.  Email messagesforlucinda@gmail.com to receive an invitation.
URL:https://buckfastleigh.gov.uk/event/buckfastleigh-community-development-project-trust-agm-3/
END:VEVENT
BEGIN:VEVENT
DTSTART;TZID=UTC:20210331T100000
DTEND;TZID=UTC:20210331T120000
DTSTAMP:20260422T070727
CREATED:20210325T113322Z
LAST-MODIFIED:20210325T113750Z
UID:12202-1617184800-1617192000@buckfastleigh.gov.uk
SUMMARY:Walking for Health
DESCRIPTION: \nAs Lockdown restrictions start to ease on the 29th March\, Walking for Health group walks will re-start.\n \nMeet at Woodholme Car Park at 9.45am for a local walk.\n \nMaximum of 10 people to comply with the Rule of 6 ( there will be 2 groups of 6 including the walk leaders).\n \nFor more information contact Chris Taylor on 01364 643569
URL:https://buckfastleigh.gov.uk/event/walking-for-health-52/
LOCATION:victoria woodholme car park\, Plymouth Road\, Buckfastleigh\, TQ11 0BD
CATEGORIES:Walking for Health
END:VEVENT
END:VCALENDAR