BEGIN:VCALENDAR
VERSION:2.0
PRODID:-//Buckfastleigh Town Council - ECPv6.15.20//NONSGML v1.0//EN
CALSCALE:GREGORIAN
METHOD:PUBLISH
X-ORIGINAL-URL:https://buckfastleigh.gov.uk
X-WR-CALDESC:Events for Buckfastleigh Town Council
REFRESH-INTERVAL;VALUE=DURATION:PT1H
X-Robots-Tag:noindex
X-PUBLISHED-TTL:PT1H
BEGIN:VTIMEZONE
TZID:UTC
BEGIN:STANDARD
TZOFFSETFROM:+0000
TZOFFSETTO:+0000
TZNAME:UTC
DTSTART:20200101T000000
END:STANDARD
END:VTIMEZONE
BEGIN:VEVENT
DTSTART;TZID=UTC:20210407T190000
DTEND;TZID=UTC:20210407T210000
DTSTAMP:20260422T054135
CREATED:20210222T092357Z
LAST-MODIFIED:20210423T114900Z
UID:12124-1617822000-1617829200@buckfastleigh.gov.uk
SUMMARY:Town Council Meeting
DESCRIPTION:Agenda (Published 5 working days before the meeting)\nMinutes  (available after approval at next meeting)\n\nTown Council meetings are currently being held using the remote meeting service Zoom. If you would like to join the meeting scheduled for 7th April 2021 at 7.00pm please use the following login details required to join the meeting: \n\n\nJoin Zoom Meeting\n\nhttps://us02web.zoom.us/j/85346423529?pwd=cHNwQkRNNWpuNnVkdDJsUFNqOXdvUT09 \nMeeting ID: 853 4642 3529 \nPasscode: 296010 \nPlease note that Members of the Public will be kept in the waiting room facility in Zoom until the meeting commences. \n\n\n\nAny member of the public and press who wishes to attend the Town Council meeting will need to download\nZoom. Please visit https://zoom.us/meetings where you will be able to download the App.\nThe website gives tutorials and demonstrations on how to download Zoom and how to join\nmeetings.
URL:https://buckfastleigh.gov.uk/event/town-council-meeting-55/
CATEGORIES:Town Council Meeting
ORGANIZER;CN="Buckfastleigh Town Council":MAILTO:clerk@buckfastleigh.gov.uk
END:VEVENT
BEGIN:VEVENT
DTSTART;TZID=UTC:20210414T100000
DTEND;TZID=UTC:20210414T120000
DTSTAMP:20260422T054135
CREATED:20210412T092704Z
LAST-MODIFIED:20210412T092704Z
UID:12235-1618394400-1618401600@buckfastleigh.gov.uk
SUMMARY:Walking for Health
DESCRIPTION:Meet at Woodholme car park 9.45am. Walk leaders will be Val Hoare and Bryn Rhodes. Anyone who fancies a gentle walk in company is welcome.  The walk will go through the lanes to Dean.\n \n\n\nFor further information\, contact Chris Taylor on 01364 643569.
URL:https://buckfastleigh.gov.uk/event/walking-for-health-53/
LOCATION:victoria woodholme car park\, Plymouth Road\, Buckfastleigh\, TQ11 0BD
CATEGORIES:Walking for Health
END:VEVENT
BEGIN:VEVENT
DTSTART;TZID=UTC:20210421T190000
DTEND;TZID=UTC:20210421T213000
DTSTAMP:20260422T054135
CREATED:20210325T092547Z
LAST-MODIFIED:20220422T132016Z
UID:12193-1619031600-1619040600@buckfastleigh.gov.uk
SUMMARY:Annual Town Meeting\, followed by Town Council Meeting
DESCRIPTION:This is an annual meeting for the parish when the Mayor gives his/her annual report and residents can ask questions.  It will be followed by the regular Town Council meeting. \n\n Agenda  (Published 5 working days before the meeting)\nAnnual Town Minutes  (available after approval at next meeting)\nMinutes \n\nTown Council meetings are currently being held using the remote meeting service Zoom. If you would like to join the meeting scheduled for 21st April 2021 at 7.00pm please use the following login details required to join the meeting: \n\n\nJoin Zoom Meeting\n\n\nhttps://us02web.zoom.us/j/87640355708?pwd=SUVwanVvNHhiSUVWRTZaelRTMkpSQT09\n \nMeeting ID: 876 4035 5708\n \nPasscode: 388382\n\n\n\nPlease note that Members of the Public will be kept in the waiting room facility in Zoom until the meeting commences. \n\n\n\nAny member of the public and press who wishes to attend the Town Council meeting will need to download\nZoom. Please visit https://zoom.us/meetings where you will be able to download the App.\nThe website gives tutorials and demonstrations on how to download Zoom and how to join\nmeetings.
URL:https://buckfastleigh.gov.uk/event/annual-town-meeting-followed-by-town-council-meeting/
CATEGORIES:Town Council Meeting
ORGANIZER;CN="Buckfastleigh Town Council":MAILTO:clerk@buckfastleigh.gov.uk
END:VEVENT
BEGIN:VEVENT
DTSTART;TZID=UTC:20210428T100000
DTEND;TZID=UTC:20210428T120000
DTSTAMP:20260422T054135
CREATED:20210426T110024Z
LAST-MODIFIED:20210426T110024Z
UID:12288-1619604000-1619611200@buckfastleigh.gov.uk
SUMMARY:Walking for Health
DESCRIPTION:Meet at Woodholme car park 9.45am. Walk leaders will be Val Hoare and Bryn Rhodes. Anyone who fancies a gentle walk in company is welcome.  The walk will go to Hillah Woods.  Maximum of 10 people to comply with the Rule of Six (2 groups of 6 to include walk leaders)\n \n\n\nFor further information\, contact Chris Taylor on 01364 643569.
URL:https://buckfastleigh.gov.uk/event/walking-for-health-54/
LOCATION:victoria woodholme car park\, Plymouth Road\, Buckfastleigh\, TQ11 0BD
CATEGORIES:Walking for Health
END:VEVENT
END:VCALENDAR