BEGIN:VCALENDAR
VERSION:2.0
PRODID:-//Buckfastleigh Town Council - ECPv6.15.20//NONSGML v1.0//EN
CALSCALE:GREGORIAN
METHOD:PUBLISH
X-WR-CALNAME:Buckfastleigh Town Council
X-ORIGINAL-URL:https://buckfastleigh.gov.uk
X-WR-CALDESC:Events for Buckfastleigh Town Council
REFRESH-INTERVAL;VALUE=DURATION:PT1H
X-Robots-Tag:noindex
X-PUBLISHED-TTL:PT1H
BEGIN:VTIMEZONE
TZID:UTC
BEGIN:STANDARD
TZOFFSETFROM:+0000
TZOFFSETTO:+0000
TZNAME:UTC
DTSTART:20210101T000000
END:STANDARD
END:VTIMEZONE
BEGIN:VEVENT
DTSTART;TZID=UTC:20220106T103000
DTEND;TZID=UTC:20220106T113000
DTSTAMP:20260421T140434
CREATED:20211223T123507Z
LAST-MODIFIED:20211223T123507Z
UID:12859-1641465000-1641468600@buckfastleigh.gov.uk
SUMMARY:Buckfastleigh Police Surgery
DESCRIPTION:Come and talk to a police officer about any concerns you may have.
URL:https://buckfastleigh.gov.uk/event/buckfastleigh-police-surgery/
LOCATION:Buckfastleigh Town Hall
ORGANIZER;CN="Buckfastleigh Town Council":MAILTO:clerk@buckfastleigh.gov.uk
END:VEVENT
BEGIN:VEVENT
DTSTART;TZID=UTC:20220119T190000
DTEND;TZID=UTC:20220119T210000
DTSTAMP:20260421T140434
CREATED:20211111T100620Z
LAST-MODIFIED:20220217T102940Z
UID:12758-1642618800-1642626000@buckfastleigh.gov.uk
SUMMARY:Town Council Meeting
DESCRIPTION:Agenda (Published 5 working days before the meeting)\nMinutes (available after approval at next meeting)\n\nThis meeting will be held in Room 3 of the Town Hall
URL:https://buckfastleigh.gov.uk/event/town-council-meeting-66/
LOCATION:Buckfastleigh Town Hall
CATEGORIES:Town Council Meeting
ORGANIZER;CN="Buckfastleigh Town Council":MAILTO:clerk@buckfastleigh.gov.uk
END:VEVENT
BEGIN:VEVENT
DTSTART;TZID=UTC:20220128T100000
DTEND;TZID=UTC:20220128T123000
DTSTAMP:20260421T140434
CREATED:20220127T121843Z
LAST-MODIFIED:20220127T121843Z
UID:12967-1643364000-1643373000@buckfastleigh.gov.uk
SUMMARY:Citizens Advice Video Booth
DESCRIPTION:  \nDo you need help with benefits\, money\, housing\, employment or family issues?\nSpeak to a Citizens Advice adviser via a secure confidential video link. Help is provided to use the video link and Covid-19 safety measures are in place. \nBuckfastleigh Town Hall\, 10am to 12.30pm every Friday \nOr you can call Citizens Advice on 0808 278 7997
URL:https://buckfastleigh.gov.uk/event/citizens-advice-video-booth/
LOCATION:Buckfastleigh Town Hall
CATEGORIES:CAB sessions
END:VEVENT
END:VCALENDAR