BEGIN:VCALENDAR
VERSION:2.0
PRODID:-//Buckfastleigh Town Council - ECPv6.15.20//NONSGML v1.0//EN
CALSCALE:GREGORIAN
METHOD:PUBLISH
X-WR-CALNAME:Buckfastleigh Town Council
X-ORIGINAL-URL:https://buckfastleigh.gov.uk
X-WR-CALDESC:Events for Buckfastleigh Town Council
REFRESH-INTERVAL;VALUE=DURATION:PT1H
X-Robots-Tag:noindex
X-PUBLISHED-TTL:PT1H
BEGIN:VTIMEZONE
TZID:UTC
BEGIN:STANDARD
TZOFFSETFROM:+0000
TZOFFSETTO:+0000
TZNAME:UTC
DTSTART:20210101T000000
END:STANDARD
END:VTIMEZONE
BEGIN:VEVENT
DTSTART;TZID=UTC:20220302T093000
DTEND;TZID=UTC:20220302T123000
DTSTAMP:20260421T111520
CREATED:20220203T115513Z
LAST-MODIFIED:20220224T101535Z
UID:12999-1646213400-1646224200@buckfastleigh.gov.uk
SUMMARY:Walking for Health
DESCRIPTION:Buckfastleigh Healthy Walking Group \nThis walk will go to Stover Lake. \nMeet 09.45 at Victoria Woodholme Car Park to car share.  Please bring a flask of coffee etc if you wish for refreshment on the way. \nFor further information contact Chris Taylor 01364 643569
URL:https://buckfastleigh.gov.uk/event/walking-for-health-69/
LOCATION:victoria woodholme car park\, Plymouth Road\, Buckfastleigh\, TQ11 0BD
CATEGORIES:Walking for Health
END:VEVENT
BEGIN:VEVENT
DTSTART;TZID=UTC:20220304T100000
DTEND;TZID=UTC:20220304T123000
DTSTAMP:20260421T111520
CREATED:20220224T120516Z
LAST-MODIFIED:20220224T120516Z
UID:13080-1646388000-1646397000@buckfastleigh.gov.uk
SUMMARY:Citizens Advice Video Booth
DESCRIPTION:Do you need help with benefits\, money\, housing\, employment or family issues? \nSpeak to a Citizens Advice adviser via a secure confidential video link. Help is provided to use the video link and Covid-19 safety measures are in place. \nBuckfastleigh Town Hall\, 10am to 12.30pm every Friday \nOr you can call Citizens Advice on 0808 278 7997
URL:https://buckfastleigh.gov.uk/event/citizens-advice-video-booth-5/
LOCATION:Buckfastleigh Town Hall
CATEGORIES:CAB sessions
END:VEVENT
BEGIN:VEVENT
DTSTART;TZID=UTC:20220309T103000
DTEND;TZID=UTC:20220309T113000
DTSTAMP:20260421T111520
CREATED:20220210T095308Z
LAST-MODIFIED:20220210T095308Z
UID:13023-1646821800-1646825400@buckfastleigh.gov.uk
SUMMARY:Buckfastleigh Police Surgery
DESCRIPTION:Come and talk to a police officer about any concerns you may have
URL:https://buckfastleigh.gov.uk/event/buckfastleigh-police-surgery-3/
LOCATION:Buckfastleigh Town Hall
CATEGORIES:Police Surgery
END:VEVENT
BEGIN:VEVENT
DTSTART;TZID=UTC:20220311T100000
DTEND;TZID=UTC:20220311T123000
DTSTAMP:20260421T111520
CREATED:20220224T120642Z
LAST-MODIFIED:20220224T120642Z
UID:13083-1646992800-1647001800@buckfastleigh.gov.uk
SUMMARY:Citizens Advice Video Booth
DESCRIPTION:Do you need help with benefits\, money\, housing\, employment or family issues? \nSpeak to a Citizens Advice adviser via a secure confidential video link. Help is provided to use the video link and Covid-19 safety measures are in place. \nBuckfastleigh Town Hall\, 10am to 12.30pm every Friday \nOr you can call Citizens Advice on 0808 278 7997
URL:https://buckfastleigh.gov.uk/event/citizens-advice-video-booth-6/
LOCATION:Buckfastleigh Town Hall
CATEGORIES:CAB sessions
END:VEVENT
BEGIN:VEVENT
DTSTART;TZID=UTC:20220312T100000
DTEND;TZID=UTC:20220312T130000
DTSTAMP:20260421T111520
CREATED:20220303T104820Z
LAST-MODIFIED:20220303T104820Z
UID:13108-1647079200-1647090000@buckfastleigh.gov.uk
SUMMARY:Energy Advice Workshop
DESCRIPTION:WORRIED ABOUT YOUR ENERGY BILLS? \nFree Energy Advice available in the Town Hall: \nDiscuss with the experts: \n\nHow to access help with paying bills\nWays to reduce your energy consumption
URL:https://buckfastleigh.gov.uk/event/energy-advice-workshop/
LOCATION:Buckfastleigh Town Hall
END:VEVENT
BEGIN:VEVENT
DTSTART;TZID=UTC:20220316T093000
DTEND;TZID=UTC:20220316T123000
DTSTAMP:20260421T111520
CREATED:20220203T114515Z
LAST-MODIFIED:20220224T101702Z
UID:12995-1647423000-1647433800@buckfastleigh.gov.uk
SUMMARY:Walking for Health
DESCRIPTION:Buckfastleigh Healthy Walking Group \nTo Steps Bridge to walk through the wild daffodils beside the River Teign \nMeet 09.45 at Victoria Woodholme Car Park.  Please bring a flask of coffee etc if you wish for refreshment on the way. \nFor further information contact Chris Taylor 01364 643569
URL:https://buckfastleigh.gov.uk/event/walking-for-health-68/
LOCATION:victoria woodholme car park\, Plymouth Road\, Buckfastleigh\, TQ11 0BD
CATEGORIES:Walking for Health
END:VEVENT
BEGIN:VEVENT
DTSTART;TZID=UTC:20220316T140000
DTEND;TZID=UTC:20220316T170000
DTSTAMP:20260421T111520
CREATED:20220303T104946Z
LAST-MODIFIED:20220303T104946Z
UID:13110-1647439200-1647450000@buckfastleigh.gov.uk
SUMMARY:Energy Advice Workshop
DESCRIPTION:WORRIED ABOUT YOUR ENERGY BILLS? \nFree Energy Advice available in the Town Hall: \nDiscuss with the experts: \n\nHow to access help with paying bills\nWays to reduce your energy consumption
URL:https://buckfastleigh.gov.uk/event/energy-advice-workshop-2/
LOCATION:Buckfastleigh Town Hall
END:VEVENT
BEGIN:VEVENT
DTSTART;TZID=UTC:20220316T190000
DTEND;TZID=UTC:20220316T210000
DTSTAMP:20260421T111520
CREATED:20211111T101013Z
LAST-MODIFIED:20220421T095819Z
UID:12762-1647457200-1647464400@buckfastleigh.gov.uk
SUMMARY:Town Council Meeting
DESCRIPTION:Agenda  (Published 5 working days before the meeting)\nMinutes  (available after approval at next meeting)\n\nThis meeting will be held in Room 3 of the Town Hall
URL:https://buckfastleigh.gov.uk/event/town-council-meeting-68/
LOCATION:Buckfastleigh Town Hall
CATEGORIES:Town Council Meeting
ORGANIZER;CN="Buckfastleigh Town Council":MAILTO:clerk@buckfastleigh.gov.uk
END:VEVENT
BEGIN:VEVENT
DTSTART;TZID=UTC:20220318T100000
DTEND;TZID=UTC:20220318T123000
DTSTAMP:20260421T111520
CREATED:20220224T120756Z
LAST-MODIFIED:20220224T120756Z
UID:13085-1647597600-1647606600@buckfastleigh.gov.uk
SUMMARY:Citizens Advice Video Booth
DESCRIPTION:Do you need help with benefits\, money\, housing\, employment or family issues? \nSpeak to a Citizens Advice adviser via a secure confidential video link. Help is provided to use the video link and Covid-19 safety measures are in place. \nBuckfastleigh Town Hall\, 10am to 12.30pm every Friday \nOr you can call Citizens Advice on 0808 278 7997
URL:https://buckfastleigh.gov.uk/event/citizens-advice-video-booth-7/
LOCATION:Buckfastleigh Town Hall
CATEGORIES:CAB sessions
END:VEVENT
BEGIN:VEVENT
DTSTART;TZID=UTC:20220325T100000
DTEND;TZID=UTC:20220325T123000
DTSTAMP:20260421T111520
CREATED:20220224T120929Z
LAST-MODIFIED:20220224T120929Z
UID:13087-1648202400-1648211400@buckfastleigh.gov.uk
SUMMARY:Citizens Advice Video Booth
DESCRIPTION:Do you need help with benefits\, money\, housing\, employment or family issues? \nSpeak to a Citizens Advice adviser via a secure confidential video link. Help is provided to use the video link and Covid-19 safety measures are in place. \nBuckfastleigh Town Hall\, 10am to 12.30pm every Friday \nOr you can call Citizens Advice on 0808 278 7997
URL:https://buckfastleigh.gov.uk/event/citizens-advice-video-booth-8/
LOCATION:Buckfastleigh Town Hall
CATEGORIES:CAB sessions
END:VEVENT
BEGIN:VEVENT
DTSTART;TZID=UTC:20220326T100000
DTEND;TZID=UTC:20220326T130000
DTSTAMP:20260421T111520
CREATED:20220303T105108Z
LAST-MODIFIED:20220303T105108Z
UID:13112-1648288800-1648299600@buckfastleigh.gov.uk
SUMMARY:Energy Advice Workshop
DESCRIPTION:WORRIED ABOUT YOUR ENERGY BILLS? \nFree Energy Advice available in the Town Hall: \nDiscuss with the experts: \n\nHow to access help with paying bills\nWays to reduce your energy consumption
URL:https://buckfastleigh.gov.uk/event/energy-advice-workshop-3/
LOCATION:Buckfastleigh Town Hall
END:VEVENT
BEGIN:VEVENT
DTSTART;TZID=UTC:20220326T140000
DTEND;TZID=UTC:20220326T170000
DTSTAMP:20260421T111520
CREATED:20220210T122113Z
LAST-MODIFIED:20220210T122303Z
UID:13030-1648303200-1648314000@buckfastleigh.gov.uk
SUMMARY:Voices of the Dart Community Workshop
DESCRIPTION:Voices of the Dart Community Workshop \nWater is one of the first resources to become stressed by climate change.  What do we need to know in order to save water – for the River Dart and in our homes and workplaces?  Come along to this community workshop\, an opportunity to pool local knowledge and local concerns while testing ground-breaking ways for future water planning that will be shared across the UK. \nIt’s on Saturday\, 26th March\, from 2 to 5 pm in Buckfastleigh Town Hall. \nBook a free place and see the short film about the project here:   www.bioregion.org.uk
URL:https://buckfastleigh.gov.uk/event/voices-of-the-dart-community-workshop/
LOCATION:Buckfastleigh Town Hall
END:VEVENT
BEGIN:VEVENT
DTSTART;TZID=UTC:20220330T093000
DTEND;TZID=UTC:20220330T123000
DTSTAMP:20260421T111520
CREATED:20220224T102100Z
LAST-MODIFIED:20220224T102100Z
UID:13066-1648632600-1648643400@buckfastleigh.gov.uk
SUMMARY:Walking for Health
DESCRIPTION:Buckfastleigh Healthy Walking Group \nThis walk will go from Dartington to Totnes.   We may take the bus for this walk – phone to confirm details. \nMeet 09.45 at Victoria Woodholme Car Park to car share.  Please bring a flask of coffee etc if you wish for refreshment on the way. \nFor further information contact Chris Taylor 01364 643569
URL:https://buckfastleigh.gov.uk/event/walking-for-health-71/
LOCATION:victoria woodholme car park\, Plymouth Road\, Buckfastleigh\, TQ11 0BD
CATEGORIES:Walking for Health
END:VEVENT
BEGIN:VEVENT
DTSTART;TZID=UTC:20220330T193000
DTEND;TZID=UTC:20220330T213000
DTSTAMP:20260421T111520
CREATED:20220310T104223Z
LAST-MODIFIED:20220310T104223Z
UID:13130-1648668600-1648675800@buckfastleigh.gov.uk
SUMMARY:AGM of Buckfastleigh Community Development Project (Trust)
DESCRIPTION:
URL:https://buckfastleigh.gov.uk/event/agm-of-buckfastleigh-community-development-project-trust/
LOCATION:The Bungalow\, Victoria Park\, Plymouth Road\, Buckfastleigh\, England\, TQ11 0FB
END:VEVENT
END:VCALENDAR